Workbook
Name Data: 'Ore Allievi 1'!#REF!
Name Data: 'Ore Allievi 2'!#REF!
Name Data: 'Ore Allievi 3'!#REF!
Name Data: 'Ore docenti'!#REF!

Sheet Dati
A1: Cognome e Nome | C1: Riportare i dati anagrafici del Rappresentante Legale, firmatario del file | AI1: 900
A2: Luogo di Nascita | H2: Sotto la propria responsabilità e consapevole delle sanzioni penali connesse a dichiarazioni non veritiere, formazione o uso di atti falsi, richiamate dall’art. 76 del D.P.R. 28 dicembre 2000 n. 455: che i dati riportati nei fogli denominati “Ore docenti”, “Ore allievi 1”, “Ore allievi 2” e “Ore allievi 3” per la realizzazione dei percorsi di IeFP contrassegnati dal CUP | AI2: 1020
A3: Data di Nascita
A4: Residente a
A5: Via / Piazza
A6: Codice Fiscale (Pers. Fisica)
A7: Legale Rappresentante di | C7: Riportare i dati dell'Ente Beneficiario
A8: C.F. (Beneficiario)
A9: P. IVA (Beneficiario)
A10: Sede Legale a
A11: Via (Sede Legale)
A12: CUP | C12: Riportare i dati del progetto
A13: CLP
A14: Ore totali | B14: 1020
A15: Denominazione corso
A16: Annualità
A17: Sede formativa
A18: Tipologia di DR | C18: Selezionare la DR corretta

Sheet Dichiarazione
A2: DICHIARAZIONE SOSTITUTIVA AI SENSI DEL D.P.R. N. 445/2000
A3: =CONCATENATE("Il/la sottoscritto/a ", Dati!B1, ", nato/a a ", Dati!B2, " il ", TEXT(Dati!B3, "gg/mm/aaaa"), ", residente in ", Dati!B4, ", Via ", Dati!B5, ", C.F. ", Dati!B6, " in qualità di Legale Rappresentante di ", Dati!B7, ", C.F. ",Dati!B8, ", P. IVA ", Dati!B9, ", con sede legale in ", Dati!B10, ", Via ", Dati!B11) -> Il/la sottoscritto/a , nato/a a il 00/01/1900, residente in , Via , C.F. in qualità di Legale Rappresentante di , C.F. , P. IVA , con sede legale in , Via
A4: DICHIARA
A5: =CONCATENATE(Dati!H2,Dati!B12, ", CLP ", Dati!B13, " e della durata di ore ",Dati!B14, " corrispondono ai dati riportati in tutti i registri obbligatori.") -> Sotto la propria responsabilità e consapevole delle sanzioni penali connesse a dichiarazioni non veritiere, formazione o uso di atti falsi, richiamate dall’art. 76 del D.P.R. 28 dicembre 2000 n. 455: che i dati riportati nei fogli denominati “Ore docenti”, “Ore allievi 1”, “Ore allievi 2” e “Ore allievi 3” per la realizzazione dei percorsi di IeFP contrassegnati dal CUP , CLP e della durata di ore 1020 corrispondono ai dati riportati in tutti i registri obbligatori.
A7: Firma apposta digitalmente

Sheet Ore docenti
BH7: B
BH8: C | BI8: 45999
BI9: 46023
BI10: 46028
A11: Attività d'aula e laboratori svolte da docenti | BH11: Intermedia | BI11: 46117
A12: Beneficiario | B12: =Dati!$B$7 -> 0 | BH12: A saldo | BI12: 46118
A13: CLP | B13: =Dati!$B$13 -> 0 | BI13: 46137
A14: Annualità | B14: =Dati!$B$16 -> 0 | BI14: 46143
A15: Corso | B15: =Dati!$B$15 -> 0 | BH15: I annualità | BI15: 46175
A16: Sede formativa | B16: =Dati!$B$17 -> 0 | BH16: II annualità | BI16: 46249
BH17: III annualità | BI17: 46327
BI18: 46364
A19: Giorno/Docente | B19: Ore corso giornaliere effettuate | BI19: 46381
A20: Fascia del docente | BI20: 46382
A21: 45901
A22: 45902
A23: 45903
A24: 45904
A25: 45905
A26: 45906
A27: 45907
A28: 45908
A29: 45909
A30: 45910
A31: 45911
A32: 45912
... A446: 46326
A447: Totale | B447: =SUM(B21:B446) -> 0 | C447: =SUM(C21:C446) -> 0 | D447: =SUM(D21:D446) -> 0 | E447: =SUM(E21:E446) -> 0 | F447: =SUM(F21:F446) -> 0 | G447: =SUM(G21:G446) -> 0 | H447: =SUM(H21:H446) -> 0 | I447: =SUM(I21:I446) -> 0 | ... AU447: =SUM(AU21:AU446) -> 0

Sheet Ore Allievi 1
BN1: Allievo da altro percorso (valido a saldo)
BN2: Allievo ritirato
BN3: Allievo effettivo
AY7: B
AY8: C | AZ8: 45999
AZ9: 46023
AZ10: 46028
A11: Ore allievi di aula teoria e pratica | AZ11: 46117
A12: Beneficiario | B12: =Dati!$B$7 -> 0 | AZ12: 46118
A13: CLP | B13: =Dati!$B$13 -> 0 | AZ13: 46137
A14: Anno formativo | B14: =Dati!$B$16 -> 0 | AZ14: 46143
A15: Corso | B15: =Dati!$B$15 -> 0 | AZ15: 46175
A16: Sede formativa | B16: =Dati!$B$17 -> 0 | AZ16: 46249
AZ17: 46327
A18: Allievo e status | AZ18: 46381
A20: Data di subentro nel caso di allievo da altra sede
A21: Data | B21: Ore corso giornaliere effettuate | C21: 1 | D21: 2 | E21: 3 | F21: 4 | G21: 5 | H21: 6 | I21: 7 | J21: 8 | K21: 9 | L21: 10 | M21: 11 | N21: 12 | O21: 13 | P21: 14 | Q21: 15 | R21: 16 | S21: 17 | T21: 18 | U21: 19 | V21: 20 | W21: 21 | X21: 22 | Y21: 23 | Z21: 24 | AA21: 25 | AB21: 26 | AC21: 27 | AD21: 28 | AE21: 29 | AF21: 30 | AG21: 31 | AH21: 32 | AI21: 33 | AJ21: 34 | AK21: 35 | AL21: 36 | AM21: 37 | AN21: 38 | AO21: 39 | AP21: 40 | AZ21: 46364
A22: 45901
A23: 45902
A24: 45903
A25: 45904
A26: 45905
A27: 45906
A28: 45907
A29: 45908
A30: 45909
A31: 45910
A32: 45911
A33: 45912
... A447: 46326
A448: Totale | B448: =SUM(B22:B447) -> 0 | C448: =SUM(C22:C447) -> 0 | D448: =SUM(D22:D447) -> 0 | E448: =SUM(E22:E447) -> 0 | F448: =SUM(F22:F447) -> 0 | G448: =SUM(G22:G447) -> 0 | H448: =SUM(H22:H447) -> 0 | I448: =SUM(I22:I447) -> 0 | ... AP448: =SUM(AP22:AP447) -> 0

Sheet Ore Allievi 2
A11: Ore di laboratori di recupero
A12: Beneficiario | B12: =Dati!$B$7 -> 0
A13: CLP | B13: =Dati!$B$13 -> 0
A14: Anno formativo | B14: =Dati!$B$16 -> 0
A15: Corso | B15: =Dati!$B$15 -> 0
A16: Sede formativa | B16: =Dati!$B$17 -> 0
A18: Allievo e status | C18: =IF('Ore Allievi 1'!C18="","",'Ore Allievi 1'!C18) | D18: =IF('Ore Allievi 1'!D18="","",'Ore Allievi 1'!D18) | E18: =IF('Ore Allievi 1'!E18="","",'Ore Allievi 1'!E18) | F18: =IF('Ore Allievi 1'!F18="","",'Ore Allievi 1'!F18) | G18: =IF('Ore Allievi 1'!G18="","",'Ore Allievi 1'!G18) | H18: =IF('Ore Allievi 1'!H18="","",'Ore Allievi 1'!H18) | I18: =IF('Ore Allievi 1'!I18="","",'Ore Allievi 1'!I18) | J18: =IF('Ore Allievi 1'!J18="","",'Ore Allievi 1'!J18) | ... AP18: =IF('Ore Allievi 1'!AP18="","",'Ore Allievi 1'!AP18)
C19: =IF('Ore Allievi 1'!C19="","",'Ore Allievi 1'!C19) | D19: =IF('Ore Allievi 1'!D19="","",'Ore Allievi 1'!D19) | E19: =IF('Ore Allievi 1'!E19="","",'Ore Allievi 1'!E19) | F19: =IF('Ore Allievi 1'!F19="","",'Ore Allievi 1'!F19) | G19: =IF('Ore Allievi 1'!G19="","",'Ore Allievi 1'!G19) | H19: =IF('Ore Allievi 1'!H19="","",'Ore Allievi 1'!H19) | I19: =IF('Ore Allievi 1'!I19="","",'Ore Allievi 1'!I19) | J19: =IF('Ore Allievi 1'!J19="","",'Ore Allievi 1'!J19) | ... AP19: =IF('Ore Allievi 1'!AP19="","",'Ore Allievi 1'!AP19)
A20: Data di subentro nel caso di allievo da altra sede | C20: =IF('Ore Allievi 1'!C20="","",'Ore Allievi 1'!C20) | D20: =IF('Ore Allievi 1'!D20="","",'Ore Allievi 1'!D20) | E20: =IF('Ore Allievi 1'!E20="","",'Ore Allievi 1'!E20) | F20: =IF('Ore Allievi 1'!F20="","",'Ore Allievi 1'!F20) | G20: =IF('Ore Allievi 1'!G20="","",'Ore Allievi 1'!G20) | H20: =IF('Ore Allievi 1'!H20="","",'Ore Allievi 1'!H20) | I20: =IF('Ore Allievi 1'!I20="","",'Ore Allievi 1'!I20) | J20: =IF('Ore Allievi 1'!J20="","",'Ore Allievi 1'!J20) | ... AP20: =IF('Ore Allievi 1'!AP20="","",'Ore Allievi 1'!AP20)
A21: Data | B21: Ore corso giornaliere effettuate | C21: 1 | D21: 2 | E21: 3 | F21: 4 | G21: 5 | H21: 6 | I21: 7 | J21: 8 | K21: 9 | L21: 10 | M21: 11 | N21: 12 | O21: 13 | P21: 14 | Q21: 15 | R21: 16 | S21: 17 | T21: 18 | U21: 19 | V21: 20 | W21: 21 | X21: 22 | Y21: 23 | Z21: 24 | AA21: 25 | AB21: 26 | AC21: 27 | AD21: 28 | AE21: 29 | AF21: 30 | AG21: 31 | AH21: 32 | AI21: 33 | AJ21: 34 | AK21: 35 | AL21: 36 | AM21: 37 | AN21: 38 | AO21: 39 | AP21: 40
A22: 45901
A23: 45902
A24: 45903
A25: 45904
A26: 45905
A27: 45906
A28: 45907
A29: 45908
A30: 45909
A31: 45910
A32: 45911
A33: 45912
... A447: 46326
A448: Totale | B448: =SUM(B22:B447) -> 0 | C448: =SUM(C22:C447) -> 0 | D448: =SUM(D22:D447) -> 0 | E448: =SUM(E22:E447) -> 0 | F448: =SUM(F22:F447) -> 0 | G448: =SUM(G22:G447) -> 0 | H448: =SUM(H22:H447) -> 0 | I448: =SUM(I22:I447) -> 0 | ... AP448: =SUM(AP22:AP447) -> 0

Sheet Ore Allievi 3
A11: Ore di tirocinio/stage
A12: Beneficiario | B12: =Dati!$B$7 -> 0
A13: CLP | B13: =Dati!$B$13 -> 0
A14: Anno formativo | B14: =Dati!$B$16 -> 0
A15: Corso | B15: =Dati!$B$15 -> 0
A16: Sede formativa | B16: =Dati!$B$17 -> 0
A18: Allievo e status | C18: =IF('Ore Allievi 1'!C18="","",'Ore Allievi 1'!C18) | D18: =IF('Ore Allievi 1'!D18="","",'Ore Allievi 1'!D18) | E18: =IF('Ore Allievi 1'!E18="","",'Ore Allievi 1'!E18) | F18: =IF('Ore Allievi 1'!F18="","",'Ore Allievi 1'!F18) | G18: =IF('Ore Allievi 1'!G18="","",'Ore Allievi 1'!G18) | H18: =IF('Ore Allievi 1'!H18="","",'Ore Allievi 1'!H18) | I18: =IF('Ore Allievi 1'!I18="","",'Ore Allievi 1'!I18) | J18: =IF('Ore Allievi 1'!J18="","",'Ore Allievi 1'!J18) | ... AP18: =IF('Ore Allievi 1'!AP18="","",'Ore Allievi 1'!AP18)
C19: =IF('Ore Allievi 1'!C19="","",'Ore Allievi 1'!C19) | D19: =IF('Ore Allievi 1'!D19="","",'Ore Allievi 1'!D19) | E19: =IF('Ore Allievi 1'!E19="","",'Ore Allievi 1'!E19) | F19: =IF('Ore Allievi 1'!F19="","",'Ore Allievi 1'!F19) | G19: =IF('Ore Allievi 1'!G19="","",'Ore Allievi 1'!G19) | H19: =IF('Ore Allievi 1'!H19="","",'Ore Allievi 1'!H19) | I19: =IF('Ore Allievi 1'!I19="","",'Ore Allievi 1'!I19) | J19: =IF('Ore Allievi 1'!J19="","",'Ore Allievi 1'!J19) | ... AP19: =IF('Ore Allievi 1'!AP19="","",'Ore Allievi 1'!AP19)
A20: Data di subentro nel caso di allievo da altra sede | C20: =IF('Ore Allievi 1'!C20="","",'Ore Allievi 1'!C20) | D20: =IF('Ore Allievi 1'!D20="","",'Ore Allievi 1'!D20) | E20: =IF('Ore Allievi 1'!E20="","",'Ore Allievi 1'!E20) | F20: =IF('Ore Allievi 1'!F20="","",'Ore Allievi 1'!F20) | G20: =IF('Ore Allievi 1'!G20="","",'Ore Allievi 1'!G20) | H20: =IF('Ore Allievi 1'!H20="","",'Ore Allievi 1'!H20) | I20: =IF('Ore Allievi 1'!I20="","",'Ore Allievi 1'!I20) | J20: =IF('Ore Allievi 1'!J20="","",'Ore Allievi 1'!J20) | ... AP20: =IF('Ore Allievi 1'!AP20="","",'Ore Allievi 1'!AP20)
A21: Data | B21: Ore corso giornaliere effettuate | C21: 1 | D21: 2 | E21: 3 | F21: 4 | G21: 5 | H21: 6 | I21: 7 | J21: 8 | K21: 9 | L21: 10 | M21: 11 | N21: 12 | O21: 13 | P21: 14 | Q21: 15 | R21: 16 | S21: 17 | T21: 18 | U21: 19 | V21: 20 | W21: 21 | X21: 22 | Y21: 23 | Z21: 24 | AA21: 25 | AB21: 26 | AC21: 27 | AD21: 28 | AE21: 29 | AF21: 30 | AG21: 31 | AH21: 32 | AI21: 33 | AJ21: 34 | AK21: 35 | AL21: 36 | AM21: 37 | AN21: 38 | AO21: 39 | AP21: 40
A22: 45901
A23: 45902
A24: 45903
A25: 45904
A26: 45905
A27: 45906
A28: 45907
A29: 45908
A30: 45909
A31: 45910
A32: 45911
A33: 45912
... A447: 46326
A448: Totale | B448: =SUM(B22:B447) -> 0 | C448: =SUM(C22:C447) -> 0 | D448: =SUM(D22:D447) -> 0 | E448: =SUM(E22:E447) -> 0 | F448: =SUM(F22:F447) -> 0 | G448: =SUM(G22:G447) -> 0 | H448: =SUM(H22:H447) -> 0 | I448: =SUM(I22:I447) -> 0 | ... AP448: =SUM(AP22:AP447) -> 0

Sheet Riepilogo sit allievi
A1: N. | B1: Cognome e Nome | C1: Status | D1: Ore frequenza aula | E1: Ore frequenza stage | F1: Ore frequenza Laboratori di recupero | G1: Totale ore frequenza realizzate | H1: % frequenza ore
D2: (A) | E2: (B) | F2: (C) | G2: (D=A+B+C) | H2: (D/ore totali percorso)
A3: 1 | B3: {=IF(TRANSPOSE('Ore Allievi 1'!C18:AP18)="","",TRANSPOSE('Ore Allievi 1'!C18:AP18))} | C3: {=IF(TRANSPOSE('Ore Allievi 1'!C19:AP19)="","",TRANSPOSE('Ore Allievi 1'!C19:AP19))} | D3: {=TRANSPOSE('Ore Allievi 1'!C448:AP448)} -> 0 | E3: {=TRANSPOSE('Ore Allievi 3'!C448:AP448)} -> 0 | F3: {=TRANSPOSE('Ore Allievi 2'!C448:AP448)} -> 0 | G3: =D3+E3+F3 -> 0 | H3: {=IFERROR(G3 / IF(INDEX('Ore Allievi 1'!$19:$19, ROW()) = "Allievo da altro ist. (valido a saldo)", SUMIFS('Ore Allievi 1'!$B$22:$B$447, 'Ore Allievi 1'!$A$22:$A$447, ">=" & INDEX('Ore Allievi 1'!$20:$20, ROW())) + SUMIFS('Ore Allievi 3'!$B$22:$B$447, 'Ore Allievi 3'!$A$22:$A$447, ">=" & INDEX('Ore Allievi 1'!$20:$20, ROW())), SUM('Ore Allievi 1'!$B$22:$B$447, 'Ore Allievi 3'!$B$22:$B$447) ), 0)} -> 0
A4: 2 | D4: 0 | E4: 0 | F4: 0 | G4: =D4+E4+F4 -> 0 | H4: {=IFERROR(G4 / IF(INDEX('Ore Allievi 1'!$19:$19, ROW()) = "Allievo da altro ist. (valido a saldo)", SUMIFS('Ore Allievi 1'!$B$22:$B$447, 'Ore Allievi 1'!$A$22:$A$447, ">=" & INDEX('Ore Allievi 1'!$20:$20, ROW())) + SUMIFS('Ore Allievi 3'!$B$22:$B$447, 'Ore Allievi 3'!$A$22:$A$447, ">=" & INDEX('Ore Allievi 1'!$20:$20, ROW())), SUM('Ore Allievi 1'!$B$22:$B$447, 'Ore Allievi 3'!$B$22:$B$447) ), 0)} -> 0
A5: 3 | D5: 0 | E5: 0 | F5: 0 | G5: =D5+E5+F5 -> 0 | H5: {=IFERROR(G5 / IF(INDEX('Ore Allievi 1'!$19:$19, ROW()) = "Allievo da altro ist. (valido a saldo)", SUMIFS('Ore Allievi 1'!$B$22:$B$447, 'Ore Allievi 1'!$A$22:$A$447, ">=" & INDEX('Ore Allievi 1'!$20:$20, ROW())) + SUMIFS('Ore Allievi 3'!$B$22:$B$447, 'Ore Allievi 3'!$A$22:$A$447, ">=" & INDEX('Ore Allievi 1'!$20:$20, ROW())), SUM('Ore Allievi 1'!$B$22:$B$447, 'Ore Allievi 3'!$B$22:$B$447) ), 0)} -> 0
A6: 4 | D6: 0 | E6: 0 | F6: 0 | G6: =D6+E6+F6 -> 0 | H6: {=IFERROR(G6 / IF(INDEX('Ore Allievi 1'!$19:$19, ROW()) = "Allievo da altro ist. (valido a saldo)", SUMIFS('Ore Allievi 1'!$B$22:$B$447, 'Ore Allievi 1'!$A$22:$A$447, ">=" & INDEX('Ore Allievi 1'!$20:$20, ROW())) + SUMIFS('Ore Allievi 3'!$B$22:$B$447, 'Ore Allievi 3'!$A$22:$A$447, ">=" & INDEX('Ore Allievi 1'!$20:$20, ROW())), SUM('Ore Allievi 1'!$B$22:$B$447, 'Ore Allievi 3'!$B$22:$B$447) ), 0)} -> 0
A7: 5 | D7: 0 | E7: 0 | F7: 0 | G7: =D7+E7+F7 -> 0 | H7: {=IFERROR(G7 / IF(INDEX('Ore Allievi 1'!$19:$19, ROW()) = "Allievo da altro ist. (valido a saldo)", SUMIFS('Ore Allievi 1'!$B$22:$B$447, 'Ore Allievi 1'!$A$22:$A$447, ">=" & INDEX('Ore Allievi 1'!$20:$20, ROW())) + SUMIFS('Ore Allievi 3'!$B$22:$B$447, 'Ore Allievi 3'!$A$22:$A$447, ">=" & INDEX('Ore Allievi 1'!$20:$20, ROW())), SUM('Ore Allievi 1'!$B$22:$B$447, 'Ore Allievi 3'!$B$22:$B$447) ), 0)} -> 0
A8: 6 | D8: 0 | E8: 0 | F8: 0 | G8: =D8+E8+F8 -> 0 | H8: {=IFERROR(G8 / IF(INDEX('Ore Allievi 1'!$19:$19, ROW()) = "Allievo da altro ist. (valido a saldo)", SUMIFS('Ore Allievi 1'!$B$22:$B$447, 'Ore Allievi 1'!$A$22:$A$447, ">=" & INDEX('Ore Allievi 1'!$20:$20, ROW())) + SUMIFS('Ore Allievi 3'!$B$22:$B$447, 'Ore Allievi 3'!$A$22:$A$447, ">=" & INDEX('Ore Allievi 1'!$20:$20, ROW())), SUM('Ore Allievi 1'!$B$22:$B$447, 'Ore Allievi 3'!$B$22:$B$447) ), 0)} -> 0
A9: 7 | D9: 0 | E9: 0 | F9: 0 | G9: =D9+E9+F9 -> 0 | H9: {=IFERROR(G9 / IF(INDEX('Ore Allievi 1'!$19:$19, ROW()) = "Allievo da altro ist. (valido a saldo)", SUMIFS('Ore Allievi 1'!$B$22:$B$447, 'Ore Allievi 1'!$A$22:$A$447, ">=" & INDEX('Ore Allievi 1'!$20:$20, ROW())) + SUMIFS('Ore Allievi 3'!$B$22:$B$447, 'Ore Allievi 3'!$A$22:$A$447, ">=" & INDEX('Ore Allievi 1'!$20:$20, ROW())), SUM('Ore Allievi 1'!$B$22:$B$447, 'Ore Allievi 3'!$B$22:$B$447) ), 0)} -> 0
A10: 8 | D10: 0 | E10: 0 | F10: 0 | G10: =D10+E10+F10 -> 0 | H10: {=IFERROR(G10 / IF(INDEX('Ore Allievi 1'!$19:$19, ROW()) = "Allievo da altro ist. (valido a saldo)", SUMIFS('Ore Allievi 1'!$B$22:$B$447, 'Ore Allievi 1'!$A$22:$A$447, ">=" & INDEX('Ore Allievi 1'!$20:$20, ROW())) + SUMIFS('Ore Allievi 3'!$B$22:$B$447, 'Ore Allievi 3'!$A$22:$A$447, ">=" & INDEX('Ore Allievi 1'!$20:$20, ROW())), SUM('Ore Allievi 1'!$B$22:$B$447, 'Ore Allievi 3'!$B$22:$B$447) ), 0)} -> 0
A11: 9 | D11: 0 | E11: 0 | F11: 0 | G11: =D11+E11+F11 -> 0 | H11: {=IFERROR(G11 / IF(INDEX('Ore Allievi 1'!$19:$19, ROW()) = "Allievo da altro ist. (valido a saldo)", SUMIFS('Ore Allievi 1'!$B$22:$B$447, 'Ore Allievi 1'!$A$22:$A$447, ">=" & INDEX('Ore Allievi 1'!$20:$20, ROW())) + SUMIFS('Ore Allievi 3'!$B$22:$B$447, 'Ore Allievi 3'!$A$22:$A$447, ">=" & INDEX('Ore Allievi 1'!$20:$20, ROW())), SUM('Ore Allievi 1'!$B$22:$B$447, 'Ore Allievi 3'!$B$22:$B$447) ), 0)} -> 0
A12: 10 | D12: 0 | E12: 0 | F12: 0 | G12: =D12+E12+F12 -> 0 | H12: {=IFERROR(G12 / IF(INDEX('Ore Allievi 1'!$19:$19, ROW()) = "Allievo da altro ist. (valido a saldo)", SUMIFS('Ore Allievi 1'!$B$22:$B$447, 'Ore Allievi 1'!$A$22:$A$447, ">=" & INDEX('Ore Allievi 1'!$20:$20, ROW())) + SUMIFS('Ore Allievi 3'!$B$22:$B$447, 'Ore Allievi 3'!$A$22:$A$447, ">=" & INDEX('Ore Allievi 1'!$20:$20, ROW())), SUM('Ore Allievi 1'!$B$22:$B$447, 'Ore Allievi 3'!$B$22:$B$447) ), 0)} -> 0
A13: 11 | D13: 0 | E13: 0 | F13: 0 | G13: =D13+E13+F13 -> 0 | H13: {=IFERROR(G13 / IF(INDEX('Ore Allievi 1'!$19:$19, ROW()) = "Allievo da altro ist. (valido a saldo)", SUMIFS('Ore Allievi 1'!$B$22:$B$447, 'Ore Allievi 1'!$A$22:$A$447, ">=" & INDEX('Ore Allievi 1'!$20:$20, ROW())) + SUMIFS('Ore Allievi 3'!$B$22:$B$447, 'Ore Allievi 3'!$A$22:$A$447, ">=" & INDEX('Ore Allievi 1'!$20:$20, ROW())), SUM('Ore Allievi 1'!$B$22:$B$447, 'Ore Allievi 3'!$B$22:$B$447) ), 0)} -> 0
A14: 12 | D14: 0 | E14: 0 | F14: 0 | G14: =D14+E14+F14 -> 0 | H14: {=IFERROR(G14 / IF(INDEX('Ore Allievi 1'!$19:$19, ROW()) = "Allievo da altro ist. (valido a saldo)", SUMIFS('Ore Allievi 1'!$B$22:$B$447, 'Ore Allievi 1'!$A$22:$A$447, ">=" & INDEX('Ore Allievi 1'!$20:$20, ROW())) + SUMIFS('Ore Allievi 3'!$B$22:$B$447, 'Ore Allievi 3'!$A$22:$A$447, ">=" & INDEX('Ore Allievi 1'!$20:$20, ROW())), SUM('Ore Allievi 1'!$B$22:$B$447, 'Ore Allievi 3'!$B$22:$B$447) ), 0)} -> 0
A15: 13 | D15: 0 | E15: 0 | F15: 0 | G15: =D15+E15+F15 -> 0 | H15: {=IFERROR(G15 / IF(INDEX('Ore Allievi 1'!$19:$19, ROW()) = "Allievo da altro ist. (valido a saldo)", SUMIFS('Ore Allievi 1'!$B$22:$B$447, 'Ore Allievi 1'!$A$22:$A$447, ">=" & INDEX('Ore Allievi 1'!$20:$20, ROW())) + SUMIFS('Ore Allievi 3'!$B$22:$B$447, 'Ore Allievi 3'!$A$22:$A$447, ">=" & INDEX('Ore Allievi 1'!$20:$20, ROW())), SUM('Ore Allievi 1'!$B$22:$B$447, 'Ore Allievi 3'!$B$22:$B$447) ), 0)} -> 0
... A42: 40 | D42: 0 | E42: 0 | F42: 0 | G42: =D42+E42+F42 -> 0 | H42: {=IFERROR(G42 / IF(INDEX('Ore Allievi 1'!$19:$19, ROW()) = "Allievo da altro ist. (valido a saldo)", SUMIFS('Ore Allievi 1'!$B$22:$B$447, 'Ore Allievi 1'!$A$22:$A$447, ">=" & INDEX('Ore Allievi 1'!$20:$20, ROW())) + SUMIFS('Ore Allievi 3'!$B$22:$B$447, 'Ore Allievi 3'!$A$22:$A$447, ">=" & INDEX('Ore Allievi 1'!$20:$20, ROW())), SUM('Ore Allievi 1'!$B$22:$B$447, 'Ore Allievi 3'!$B$22:$B$447) ), 0)} -> 0

Sheet Avanzamento
A1: N. | B1: Voce di spesa | C1: Unità di costo | D1: Numero allievi | E1: Numero ore realizzate | F1: UCS | G1: Totale
A2: D.1 | B2: Unità di Costi Standard ora/corso | C2: Formatore fascia B | E2: =SUMIF('Ore docenti'!C20:AU20, "B", 'Ore docenti'!C447:AU447) -> 0 | F2: 131.63 | G2: =E2*F2 -> 0 | I2: =IF(E2>570,"ATTENZIONE: STAI RENDICONTANDO UN NUMERO DI ORE DI FASCIA B SUPERIORE A QUELLO AMMESSO DALL'AVVISO","")
A3: D.1 | B3: Unità di Costi Standard ora/corso | C3: Formatore fascia C | E3: =SUMIF('Ore docenti'!C20:AU20, "C", 'Ore docenti'!C447:AU447) -> 0 | F3: 82.27 | G3: =E3*F3 -> 0
A4: D.1 | B4: Unità di Costi Standard ora/corso | C4: Formatore fascia C (stage) | E4: =IFERROR(IF(Dati!B18="A saldo",IF((COUNTIFS('Riepilogo sit allievi'!H3:H42,">=0,75")>0),VLOOKUP(Dati!B16,Foglio1!A27:B29,2,FALSE),0),MAX(_xlfn.ANCHORARRAY('Riepilogo sit allievi'!E3))),0) -> 0 | F4: 82.27 | G4: =E4*F4 -> 0
A5: TOTALE (Totale D1) | G5: =SUM(G2:G4) -> 0
A6: D.2 | B6: Unità di Costi Standard ora/allievo | C6: Allievo | D6: =COUNTIF('Riepilogo sit allievi'!$H$3:$H$42, ">=0,75") -> 0 | E6: =SUM('Ore Allievi 1'!C448:AP448)+SUM('Ore Allievi 2'!C448:AP448)+SUM('Ore Allievi 3'!C448:AP448) -> 0 | F6: 0.9 | G6: =E6*F6 -> 0
A7: Totale | G7: =G5+G6 -> 0
A10: Nel caso siano presenti variazioni autorizzate dell'operazione che determinano la rendicontazione di importi differenti da quelli automatici, è possibile compilare autonomamente la tabella che segue, dandone dettagliata spiegazione nella Relazione Finale di attività
A12: N. | B12: Voce di spesa | C12: Unità di costo | D12: Numero allievi | E12: Numero ore realizzate | F12: UCS | G12: Totale
A13: D.1 | B13: Unità di Costi Standard ora/corso | C13: Formatore fascia B | F13: 131.63 | G13: =E13*F13 -> 0
A14: D.1 | B14: Unità di Costi Standard ora/corso | C14: Formatore fascia C | F14: 82.27 | G14: =E14*F14 -> 0
A15: D.1 | B15: Unità di Costi Standard ora/corso | C15: Formatore fascia C (stage) | F15: 82.27 | G15: =E15*F15 -> 0
A16: TOTALE (Totale D1) | G16: =SUM(G13:G15) -> 0
A17: D.2 | B17: Unità di Costi Standard ora/allievo | C17: Allievo | F17: 0.9 | G17: =E17*F17 -> 0
A18: Totale | G18: =G16+G17 -> 0

Sheet Riepilogo importi
A1: Importo operazione | B1: Numero allievi | C1: UCS ora corso | D1: UCS ora allievo | E1: Totale
A2: Importo finanziamento massimo (A) | B2: 25 | C2: 112050 | D2: 22950 | E2: =C2+D2 -> 135000
A3: Importo finanziamento Approvato (B) | E3: =C3+D3 -> 0
A4: % riduzione UCS ora corso (C=B/A) | C4: =ROUND(1-(C3/C2),4) -> 1
A5: Importo rendicontato | C5: =Avanzamento!G5 -> 0 | D5: =Avanzamento!G6 -> 0 | E5: =C5+D5 -> 0 | G5: =IF(OR(C5>C3,D5>D3),"ATTENZIONE: STAI RENDICONTANDO UN IMPORTO MAGGIORE DI QUANTO TI E' STATO APPROVATO","")
A6: Importo massimo riconoscibile se DR intermedia | C6: =ROUND(C5-(C5*C4),2) -> 0 | D6: =D5 -> 0 | E6: =C6+D6 -> 0
A7: Importo massimo riconoscibile se DR a saldo | C7: =ROUND(C5-(C5*C4),2) -> 0 | D7: =(SUMIF('Riepilogo sit allievi'!G3:G42,"<765",'Riepilogo sit allievi'!G3:G42)*0.9)+(COUNTIFS('Riepilogo sit allievi'!G3:G42,">=765")*0.9*Dati!B14) -> 0 | E7: =C7+D7 -> 0
A8: Percentuale di avanzamento | E8: =IFERROR(IF(Dati!B18="A saldo",E7/E3,E6/E3),0) -> 0
A11: Nel caso siano presenti variazioni autorizzate dell'operazione che determinano la rendicontazione di importi differenti da quelli automatici, è possibile compilare autonomamente la tabella che segue, dandone dettagliata spiegazione nella Relazione Finale di attività
A14: Importo operazione | B14: Numero allievi | C14: UCS ora corso | D14: UCS ora allievo | E14: Totale
A15: Importo finanziamento massimo (A) | B15: 25 | C15: 112050 | D15: 22950 | E15: =C15+D15 -> 135000
A16: Importo finanziamento Approvato (B) | B16: 25 | E16: =C16+D16 -> 0
A17: % riduzione UCS ora corso (C=B/A) | C17: =ROUND(1-(C16/C15),4) -> 1
A18: Importo rendicontato | E18: =C18+D18 -> 0
A19: Importo massimo riconoscibile se DR intermedia | E19: =C19+D19 -> 0
A20: Importo massimo riconoscibile se DR a saldo | E20: =C20+D20 -> 0
A21: Percentuale di avanzamento | E21: =IFERROR(IF(Dati!B31="A saldo",E20/E16,E19/E16),0) -> 0

Sheet Foglio1
A1: Numero allievi validi | B1: UCS Ora/allievo massima riconosciuta
A2: 25 | B2: 22950
A3: 24 | B3: 22032
A4: 23 | B4: 21114
A5: 22 | B5: 20196
A6: 21 | B6: 19278
A7: 20 | B7: 18360
A8: 19 | B8: 17442
A9: 18 | B9: 16524
A10: 17 | B10: 15606
A11: 16 | B11: 14688
A12: 15 | B12: 13770
A13: 14 | B13: 12852
... A22: 5 | B22: 4590
A23: <5 | B23: 0
A27: I annualità | B27: 0
A28: II annualità | B28: 180
A29: III annualità | B29: 210
